BEGIN:VCALENDAR
VERSION:2.0
PRODID:-//Second Service Band - ECPv6.6.4//NONSGML v1.0//EN
CALSCALE:GREGORIAN
METHOD:PUBLISH
X-WR-CALNAME:Second Service Band
X-ORIGINAL-URL:https://secondserviceband.cz
X-WR-CALDESC:Akce na Second Service Band
REFRESH-INTERVAL;VALUE=DURATION:PT1H
X-Robots-Tag:noindex
X-PUBLISHED-TTL:PT1H
BEGIN:VTIMEZONE
TZID:Europe/Prague
BEGIN:DAYLIGHT
TZOFFSETFROM:+0100
TZOFFSETTO:+0200
TZNAME:CEST
DTSTART:20260329T010000
END:DAYLIGHT
BEGIN:STANDARD
TZOFFSETFROM:+0200
TZOFFSETTO:+0100
TZNAME:CET
DTSTART:20261025T010000
END:STANDARD
END:VTIMEZONE
BEGIN:VEVENT
DTSTART;VALUE=DATE:20260430
DTEND;VALUE=DATE:20260501
DTSTAMP:20260419T174526
CREATED:20260324T093657Z
LAST-MODIFIED:20260324T093948Z
UID:489-1777507200-1777593599@secondserviceband.cz
SUMMARY:Čarodějnice
DESCRIPTION:Farská louka
URL:https://secondserviceband.cz/event/carodejnice-2/
LOCATION:Lomnice nad Lužnicí
END:VEVENT
BEGIN:VEVENT
DTSTART;VALUE=DATE:20260605
DTEND;VALUE=DATE:20260606
DTSTAMP:20260419T174526
CREATED:20260324T102334Z
LAST-MODIFIED:20260324T102334Z
UID:492-1780617600-1780703999@secondserviceband.cz
SUMMARY:Sportovní hry Swietelsky - uzavřená společnost
DESCRIPTION:
URL:https://secondserviceband.cz/event/sportovni-hry-swietelsky-uzavrena-spolecnost/
LOCATION:Zvůle
END:VEVENT
BEGIN:VEVENT
DTSTART;VALUE=DATE:20261023
DTEND;VALUE=DATE:20261024
DTSTAMP:20260419T174526
CREATED:20250327T152732Z
LAST-MODIFIED:20250327T152732Z
UID:424-1792713600-1792799999@secondserviceband.cz
SUMMARY:Maturitní ples
DESCRIPTION:
URL:https://secondserviceband.cz/event/maturitni-ples-5/
LOCATION:Tábor
END:VEVENT
BEGIN:VEVENT
DTSTART;VALUE=DATE:20261030
DTEND;VALUE=DATE:20261031
DTSTAMP:20260419T174526
CREATED:20250327T152814Z
LAST-MODIFIED:20260113T113454Z
UID:427-1793318400-1793404799@secondserviceband.cz
SUMMARY:Maturitní ples
DESCRIPTION:
URL:https://secondserviceband.cz/event/maturitni-ples-6/
LOCATION:Třeboň
END:VEVENT
BEGIN:VEVENT
DTSTART;VALUE=DATE:20261204
DTEND;VALUE=DATE:20261205
DTSTAMP:20260419T174526
CREATED:20260108T115203Z
LAST-MODIFIED:20260113T113348Z
UID:457-1796342400-1796428799@secondserviceband.cz
SUMMARY:Maturitní ples
DESCRIPTION:
URL:https://secondserviceband.cz/event/maturitni-ples-volyne/
LOCATION:Volyně
END:VEVENT
BEGIN:VEVENT
DTSTART;VALUE=DATE:20261212
DTEND;VALUE=DATE:20261213
DTSTAMP:20260419T174526
CREATED:20250626T075743Z
LAST-MODIFIED:20260113T113248Z
UID:450-1797033600-1797119999@secondserviceband.cz
SUMMARY:Maturitní ples
DESCRIPTION:
URL:https://secondserviceband.cz/event/maturitni-ples-7/
LOCATION:Hříšice
END:VEVENT
END:VCALENDAR